BEGIN:VCALENDAR
VERSION:2.0
PRODID:-//wp-events-plugin.com//7.2.3.1//EN
BEGIN:VEVENT
UID:94@xn--backhusl-thansau-znb.de
DTSTART;TZID=Europe/Berlin:20250829T170000
DTEND;TZID=Europe/Berlin:20250829T220000
DTSTAMP:20250827T054125Z
URL:https://xn--backhusl-thansau-znb.de/events/sonntags-backen-37/
SUMMARY:Gartenfest "Backhäusl"
DESCRIPTION:Liebe Bäckerinnen und Bäcker\,\n\nwir haben witterungsbedingt
  das große Gartenfest abgesagt.\n\nTrotzdem wollen wir intern Brote backe
 n und Pizza essen.\n\nMeldet Euch bitte an mit Euren Broten. Pizzen bereit
 en wir vor.\n\nServus
ATTACH;FMTTYPE=image/jpeg:https://xn--backhusl-thansau-znb.de/wp-content/u
 ploads/2022/04/Backhaeusl-Thansau.png
LOCATION:Backhäusl Wiese\, Ulmenstraße\, Thansau\, Bayern\, 83101\, Deuts
 chland
X-APPLE-STRUCTURED-LOCATION;VALUE=URI;X-ADDRESS=Ulmenstraße\, Thansau\, Ba
 yern\, 83101\, Deutschland;X-APPLE-RADIUS=100;X-TITLE=Backhäusl Wiese:geo
 :0,0
END:VEVENT
BEGIN:VTIMEZONE
TZID:Europe/Berlin
X-LIC-LOCATION:Europe/Berlin
BEGIN:DAYLIGHT
DTSTART:20250330T030000
TZOFFSETFROM:+0100
TZOFFSETTO:+0200
TZNAME:CEST
END:DAYLIGHT
END:VTIMEZONE
END:VCALENDAR